BEGIN:VCALENDAR
VERSION:2.0
PRODID:-//Stone Pony Music - ECPv6.11.2.1//NONSGML v1.0//EN
CALSCALE:GREGORIAN
METHOD:PUBLISH
X-WR-CALNAME:Stone Pony Music
X-ORIGINAL-URL:http://westnorfolkguitarteacher.co.uk
X-WR-CALDESC:Events for Stone Pony Music
REFRESH-INTERVAL;VALUE=DURATION:PT1H
X-Robots-Tag:noindex
X-PUBLISHED-TTL:PT1H
BEGIN:VTIMEZONE
TZID:Europe/London
BEGIN:DAYLIGHT
TZOFFSETFROM:+0000
TZOFFSETTO:+0100
TZNAME:BST
DTSTART:20250330T010000
END:DAYLIGHT
BEGIN:STANDARD
TZOFFSETFROM:+0100
TZOFFSETTO:+0000
TZNAME:GMT
DTSTART:20251026T010000
END:STANDARD
BEGIN:DAYLIGHT
TZOFFSETFROM:+0000
TZOFFSETTO:+0100
TZNAME:BST
DTSTART:20260329T010000
END:DAYLIGHT
BEGIN:STANDARD
TZOFFSETFROM:+0100
TZOFFSETTO:+0000
TZNAME:GMT
DTSTART:20261025T010000
END:STANDARD
END:VTIMEZONE
BEGIN:VEVENT
DTSTART;TZID=Europe/London:20260320T203000
DTEND;TZID=Europe/London:20260320T223000
DTSTAMP:20260419T174359
CREATED:20251127T095255Z
LAST-MODIFIED:20251127T095255Z
UID:3012-1774038600-1774045800@westnorfolkguitarteacher.co.uk
SUMMARY:Stone Pony @ Steam Town\, Eastleigh
DESCRIPTION:
URL:http://westnorfolkguitarteacher.co.uk/event/stone-pony-steam-town-eastleigh-5/
LOCATION:Steam Town\, 1 Bishopstoke Road\, Eastleigh\, Hampshire\, SO50 6AD\, United Kingdom
END:VEVENT
BEGIN:VEVENT
DTSTART;TZID=Europe/London:20260314T150000
DTEND;TZID=Europe/London:20260314T170000
DTSTAMP:20260419T174359
CREATED:20260206T102536Z
LAST-MODIFIED:20260206T102626Z
UID:3069-1773500400-1773507600@westnorfolkguitarteacher.co.uk
SUMMARY:Andy Graham & Steve Roberts @ The Ship Inn\, Wool\, Dorset
DESCRIPTION:
URL:http://westnorfolkguitarteacher.co.uk/event/andy-graham-steve-roberts-the-ship-inn-wool-dorset/
LOCATION:Ship Inn\, Dorchester Road\, Wool\, Wareham\, Dorset\, BH20 6EQ\, United Kingdom
END:VEVENT
BEGIN:VEVENT
DTSTART;TZID=Europe/London:20260308T200000
DTEND;TZID=Europe/London:20260308T220000
DTSTAMP:20260419T174359
CREATED:20250312T143115Z
LAST-MODIFIED:20250312T143419Z
UID:2832-1773000000-1773007200@westnorfolkguitarteacher.co.uk
SUMMARY:Stone Pony @ Stevenage Blues Club (RedLion)
DESCRIPTION:
URL:http://westnorfolkguitarteacher.co.uk/event/stone-pony-stevenage-blues-club-redlion/
LOCATION:Red Lion\, 80 High Street\, Stevenage\, Hertforshire\, SG13DW
END:VEVENT
BEGIN:VEVENT
DTSTART;VALUE=DATE:20260307
DTEND;VALUE=DATE:20260308
DTSTAMP:20260419T174359
CREATED:20251203T152941Z
LAST-MODIFIED:20251203T152941Z
UID:3021-1772841600-1772927999@westnorfolkguitarteacher.co.uk
SUMMARY:Stone Pony @ Private Event (Norfolk)
DESCRIPTION:
URL:http://westnorfolkguitarteacher.co.uk/event/stone-pony-private-event-norfolk/
LOCATION:Hertforshire
END:VEVENT
BEGIN:VEVENT
DTSTART;TZID=Europe/London:20260222T170000
DTEND;TZID=Europe/London:20260222T190000
DTSTAMP:20260419T174359
CREATED:20250831T112711Z
LAST-MODIFIED:20250831T112711Z
UID:2979-1771779600-1771786800@westnorfolkguitarteacher.co.uk
SUMMARY:Stone Pony @ The South Western Arms\, St. Deny's Southampton
DESCRIPTION:
URL:http://westnorfolkguitarteacher.co.uk/event/stone-pony-the-south-western-arms-st-denys-southampton-2/
LOCATION:South Western Arms\, 38-40 Adelaide Road\, Southampton\, Hampshire\, SO17 2HW\, United Kingdom
END:VEVENT
BEGIN:VEVENT
DTSTART;TZID=Europe/London:20260219T203000
DTEND;TZID=Europe/London:20260219T223000
DTSTAMP:20260419T174359
CREATED:20251127T095135Z
LAST-MODIFIED:20251127T095135Z
UID:3010-1771533000-1771540200@westnorfolkguitarteacher.co.uk
SUMMARY:Andy Graham @ Steam Town\, Eastleigh
DESCRIPTION:
URL:http://westnorfolkguitarteacher.co.uk/event/andy-graham-steam-town-eastleigh-2/
LOCATION:Steam Town\, 1 Bishopstoke Road\, Eastleigh\, Hampshire\, SO50 6AD\, United Kingdom
END:VEVENT
BEGIN:VEVENT
DTSTART;TZID=Europe/London:20260213T203000
DTEND;TZID=Europe/London:20260213T223000
DTSTAMP:20260419T174359
CREATED:20260105T133255Z
LAST-MODIFIED:20260105T133255Z
UID:3042-1771014600-1771021800@westnorfolkguitarteacher.co.uk
SUMMARY:Stone Pony @ The Duke of Wellington\, Southampton
DESCRIPTION:
URL:http://westnorfolkguitarteacher.co.uk/event/stone-pony-the-duke-of-wellington-southampton/
LOCATION:Duke of Wellington\, 36 Bugle St\, Southamptn\, Hampshire\, SO14 2AH\, United Kingdom
END:VEVENT
BEGIN:VEVENT
DTSTART;TZID=Europe/London:20260121T200000
DTEND;TZID=Europe/London:20260121T223000
DTSTAMP:20260419T174359
CREATED:20250120T104437Z
LAST-MODIFIED:20251127T095638Z
UID:2763-1769025600-1769034600@westnorfolkguitarteacher.co.uk
SUMMARY:Andy Graham @ Kreuz & Post Hotel
DESCRIPTION:
URL:http://westnorfolkguitarteacher.co.uk/event/andy-graham-kreuz-post-hotel-provisional-date-2/
LOCATION:Kreuz & Post Hotel\, Grindelwald 3818 \, Switzerland
END:VEVENT
BEGIN:VEVENT
DTSTART;TZID=Europe/London:20260120T200000
DTEND;TZID=Europe/London:20260120T223000
DTSTAMP:20260419T174359
CREATED:20250120T104559Z
LAST-MODIFIED:20251127T095616Z
UID:2765-1768939200-1768948200@westnorfolkguitarteacher.co.uk
SUMMARY:Andy Graham @ Kreuz & Post Hotel
DESCRIPTION:
URL:http://westnorfolkguitarteacher.co.uk/event/andy-graham-kreuz-post-hotel-provisional-date-3/
LOCATION:Kreuz & Post Hotel\, Grindelwald 3818 \, Switzerland
END:VEVENT
BEGIN:VEVENT
DTSTART;TZID=Europe/London:20251228T170000
DTEND;TZID=Europe/London:20251228T190000
DTSTAMP:20260419T174359
CREATED:20250818T085249Z
LAST-MODIFIED:20250818T085249Z
UID:2968-1766941200-1766948400@westnorfolkguitarteacher.co.uk
SUMMARY:Stone Pony @ The South Western Arms\, St. Denys\, Southampton
DESCRIPTION:
URL:http://westnorfolkguitarteacher.co.uk/event/stone-pony-the-south-western-arms-st-denys-southampton/
LOCATION:South Western Arms\, 38-40 Adelaide Road\, Southampton\, Hampshire\, SO17 2HW\, United Kingdom
END:VEVENT
BEGIN:VEVENT
DTSTART;TZID=Europe/London:20251213T180000
DTEND;TZID=Europe/London:20251213T200000
DTSTAMP:20260419T174359
CREATED:20250506T134800Z
LAST-MODIFIED:20251120T195310Z
UID:2933-1765648800-1765656000@westnorfolkguitarteacher.co.uk
SUMMARY:Stone Pony @ The Rover\, Shirley
DESCRIPTION:
URL:http://westnorfolkguitarteacher.co.uk/event/stone-pony-the-rover-shirley-4/
LOCATION:The Rover\, 266 Shirley Road\, Southampton\, SO15 3HP\, United Kingdom
END:VEVENT
BEGIN:VEVENT
DTSTART;TZID=Europe/London:20251130T170000
DTEND;TZID=Europe/London:20251130T183000
DTSTAMP:20260419T174359
CREATED:20250428T115131Z
LAST-MODIFIED:20251104T191317Z
UID:2921-1764522000-1764527400@westnorfolkguitarteacher.co.uk
SUMMARY:Stone Pony @ Steam Town's 8th Anniversary Celebrations\, Eastleigh
DESCRIPTION:
URL:http://westnorfolkguitarteacher.co.uk/event/stone-pony-steam-towns-8th-anniversary-celebrations-eastleigh/
LOCATION:Steam Town\, 1 Bishopstoke Road\, Eastleigh\, Hampshire\, SO50 6AD\, United Kingdom
END:VEVENT
BEGIN:VEVENT
DTSTART;VALUE=DATE:20251128
DTEND;VALUE=DATE:20251129
DTSTAMP:20260419T174359
CREATED:20251112T123716Z
LAST-MODIFIED:20251112T123716Z
UID:3004-1764288000-1764374399@westnorfolkguitarteacher.co.uk
SUMMARY:Andy Graham - Private Party
DESCRIPTION:
URL:http://westnorfolkguitarteacher.co.uk/event/andy-graham-private-party/
LOCATION:Hertforshire
END:VEVENT
BEGIN:VEVENT
DTSTART;TZID=Europe/London:20251123T150000
DTEND;TZID=Europe/London:20251123T170000
DTSTAMP:20260419T174359
CREATED:20250831T112324Z
LAST-MODIFIED:20250831T112324Z
UID:2975-1763910000-1763917200@westnorfolkguitarteacher.co.uk
SUMMARY:The Cats @ Black Stone Engine Bar\, Denver Mill\, Norfolk
DESCRIPTION:
URL:http://westnorfolkguitarteacher.co.uk/event/the-cats-black-stone-engine-bar-denver-mill-norfolk/
LOCATION:Black Stone Engine Bar\, Denver Windmill\, Sluice Rd\, Downham Market\, Norfolk\, PE38 0DZ\, United Kingdom
END:VEVENT
BEGIN:VEVENT
DTSTART;TZID=Europe/London:20251122T153000
DTEND;TZID=Europe/London:20251122T173000
DTSTAMP:20260419T174359
CREATED:20250709T131734Z
LAST-MODIFIED:20250819T102645Z
UID:2955-1763825400-1763832600@westnorfolkguitarteacher.co.uk
SUMMARY:Stone Pony @ The Dabbling Duck\, Great Massingham\, Norfolk (Seafood Festival)
DESCRIPTION:
URL:http://westnorfolkguitarteacher.co.uk/event/stone-pony-the-dabbling-duck-great-massingham-norfolk-seafood-festival/
LOCATION:Dabbling Duck\, 11 Abbey Road\, Great Massingham\, Norfolk\, PE321HN
END:VEVENT
BEGIN:VEVENT
DTSTART;TZID=Europe/London:20251116T170000
DTEND;TZID=Europe/London:20251116T190000
DTSTAMP:20260419T174359
CREATED:20240830T130009Z
LAST-MODIFIED:20250818T085317Z
UID:2463-1763312400-1763319600@westnorfolkguitarteacher.co.uk
SUMMARY:Stone Pony @ The South Western Arms\, St. Denys\, Southampton
DESCRIPTION:
URL:http://westnorfolkguitarteacher.co.uk/event/stone-pony-the-south-western-st-denys-southampton-4/
LOCATION:South Western Arms\, 38-40 Adelaide Road\, Southampton\, Hampshire\, SO17 2HW\, United Kingdom
END:VEVENT
BEGIN:VEVENT
DTSTART;TZID=Europe/London:20251011T200000
DTEND;TZID=Europe/London:20251011T220000
DTSTAMP:20260419T174359
CREATED:20250506T134703Z
LAST-MODIFIED:20250825T140254Z
UID:2931-1760212800-1760220000@westnorfolkguitarteacher.co.uk
SUMMARY:Stone Pony @ The Rover\, Shirley
DESCRIPTION:
URL:http://westnorfolkguitarteacher.co.uk/event/stone-pony-the-rover-shirley-3/
LOCATION:The Rover\, 266 Shirley Road\, Southampton\, SO15 3HP\, United Kingdom
END:VEVENT
BEGIN:VEVENT
DTSTART;TZID=Europe/London:20250924T160000
DTEND;TZID=Europe/London:20250924T233000
DTSTAMP:20260419T174359
CREATED:20250831T111913Z
LAST-MODIFIED:20250831T112410Z
UID:2973-1758729600-1758756600@westnorfolkguitarteacher.co.uk
SUMMARY:Private Party\, Normandie
DESCRIPTION:
URL:http://westnorfolkguitarteacher.co.uk/event/private-party/
LOCATION:Hertforshire
END:VEVENT
BEGIN:VEVENT
DTSTART;VALUE=DATE:20250828
DTEND;VALUE=DATE:20250829
DTSTAMP:20260419T174359
CREATED:20250803T115858Z
LAST-MODIFIED:20250803T115858Z
UID:2962-1756339200-1756425599@westnorfolkguitarteacher.co.uk
SUMMARY:Stone Pony @ Private Event
DESCRIPTION:
URL:http://westnorfolkguitarteacher.co.uk/event/stone-pony-private-event/
LOCATION:Hertforshire
END:VEVENT
BEGIN:VEVENT
DTSTART;TZID=Europe/London:20250824T150000
DTEND;TZID=Europe/London:20250824T170000
DTSTAMP:20260419T174359
CREATED:20250203T104831Z
LAST-MODIFIED:20250203T104831Z
UID:2824-1756047600-1756054800@westnorfolkguitarteacher.co.uk
SUMMARY:Andy Graham & Steve Roberts @ The Platform Tavern\, Southampton
DESCRIPTION:
URL:http://westnorfolkguitarteacher.co.uk/event/andy-graham-steve-roberts-the-platform-tavern-southampton-3/
LOCATION:Platform tavern\, Town Quay\, Southampton\, Hampshire\, SO14 2NY\, United Kingdom
END:VEVENT
BEGIN:VEVENT
DTSTART;TZID=Europe/London:20250822T190000
DTEND;TZID=Europe/London:20250822T220000
DTSTAMP:20260419T174359
CREATED:20250506T134547Z
LAST-MODIFIED:20250625T151417Z
UID:2928-1755889200-1755900000@westnorfolkguitarteacher.co.uk
SUMMARY:Stone Pony @ The Rover\, Shirley
DESCRIPTION:
URL:http://westnorfolkguitarteacher.co.uk/event/stone-pony-the-rover-shirley-2/
LOCATION:The Rover\, 266 Shirley Road\, Southampton\, SO15 3HP\, United Kingdom
END:VEVENT
BEGIN:VEVENT
DTSTART;TZID=Europe/London:20250817T170000
DTEND;TZID=Europe/London:20250817T190000
DTSTAMP:20260419T174359
CREATED:20240830T125917Z
LAST-MODIFIED:20240830T125917Z
UID:2461-1755450000-1755457200@westnorfolkguitarteacher.co.uk
SUMMARY:Stone Pony @ The South Western\, St. Denys\, Southampton
DESCRIPTION:
URL:http://westnorfolkguitarteacher.co.uk/event/stone-pony-the-south-western-st-denys-southampton-3/
LOCATION:South Western Arms\, 38-40 Adelaide Road\, Southampton\, Hampshire\, SO17 2HW\, United Kingdom
END:VEVENT
BEGIN:VEVENT
DTSTART;TZID=Europe/London:20250808T183000
DTEND;TZID=Europe/London:20250808T203000
DTSTAMP:20260419T174359
CREATED:20250803T113538Z
LAST-MODIFIED:20250803T113538Z
UID:2960-1754677800-1754685000@westnorfolkguitarteacher.co.uk
SUMMARY:Andy Graham @ La Cahute Resto Rapide\, Bricqville-Sur-Mer\, Normandie
DESCRIPTION:
URL:http://westnorfolkguitarteacher.co.uk/event/andy-graham-la-cahute-resto-rapide-bricqville-sur-mer-normandie/
LOCATION:Hertforshire
END:VEVENT
BEGIN:VEVENT
DTSTART;TZID=Europe/London:20250710T210000
DTEND;TZID=Europe/London:20250710T230000
DTSTAMP:20260419T174359
CREATED:20241105T123436Z
LAST-MODIFIED:20241105T123436Z
UID:2483-1752181200-1752188400@westnorfolkguitarteacher.co.uk
SUMMARY:Stone Pony @ The Cherry Tree (Dereham Blues Festival)
DESCRIPTION:
URL:http://westnorfolkguitarteacher.co.uk/event/stone-pony-the-cherry-tree-dereham-blues-festival-3/
LOCATION:Cherry Tree\, 1 Theatre Street\, Dereham\, Norfolk\, NR19 2EW
END:VEVENT
BEGIN:VEVENT
DTSTART;TZID=Europe/London:20250705T203000
DTEND;TZID=Europe/London:20250705T223000
DTSTAMP:20260419T174359
CREATED:20250409T115051Z
LAST-MODIFIED:20250409T115051Z
UID:2905-1751747400-1751754600@westnorfolkguitarteacher.co.uk
SUMMARY:Stone Pony @ Steam Town\, Eastleigh
DESCRIPTION:
URL:http://westnorfolkguitarteacher.co.uk/event/stone-pony-steam-town-eastleigh-4/
LOCATION:Steam Town\, 1 Bishopstoke Road\, Eastleigh\, Hampshire\, SO50 6AD\, United Kingdom
END:VEVENT
BEGIN:VEVENT
DTSTART;TZID=Europe/London:20250629T160000
DTEND;TZID=Europe/London:20250629T180000
DTSTAMP:20260419T174359
CREATED:20250526T101554Z
LAST-MODIFIED:20250526T101554Z
UID:2948-1751212800-1751220000@westnorfolkguitarteacher.co.uk
SUMMARY:Stone Pony Duo @ The Anglers\, Bishopstoke
DESCRIPTION:
URL:http://westnorfolkguitarteacher.co.uk/event/stone-pony-duo-the-anglers-bishopstoke/
LOCATION:Anglers\, 17 Riverside\, Bishopstoke\, Hampshire\, SO50 6LQ\, United Kingdom
END:VEVENT
BEGIN:VEVENT
DTSTART;TZID=Europe/London:20250628T190000
DTEND;TZID=Europe/London:20250628T200000
DTSTAMP:20260419T174359
CREATED:20241211T130230Z
LAST-MODIFIED:20241211T130230Z
UID:2715-1751137200-1751140800@westnorfolkguitarteacher.co.uk
SUMMARY:Stone Pony @ The South Western\, St. Deny's (Charity Gig)
DESCRIPTION:
URL:http://westnorfolkguitarteacher.co.uk/event/stone-pony-the-south-western-st-denys-charity-gig/
LOCATION:South Western Arms\, 38-40 Adelaide Road\, Southampton\, Hampshire\, SO17 2HW\, United Kingdom
END:VEVENT
BEGIN:VEVENT
DTSTART;TZID=Europe/London:20250621T203000
DTEND;TZID=Europe/London:20250621T230000
DTSTAMP:20260419T174359
CREATED:20250319T125635Z
LAST-MODIFIED:20250319T125725Z
UID:2891-1750537800-1750546800@westnorfolkguitarteacher.co.uk
SUMMARY:Andy Graham @ The Lines End\, Sheringham
DESCRIPTION:
URL:http://westnorfolkguitarteacher.co.uk/event/andy-graham-the-lines-end-sheringham/
LOCATION:The Lines End\, 8 Station Approach\, Sherringham\, Norfolk\, NR26 8RA\, United Kingdom
END:VEVENT
BEGIN:VEVENT
DTSTART;VALUE=DATE:20250531
DTEND;VALUE=DATE:20250601
DTSTAMP:20260419T174359
CREATED:20250411T085959Z
LAST-MODIFIED:20250411T085959Z
UID:2907-1748649600-1748735999@westnorfolkguitarteacher.co.uk
SUMMARY:Andy Graham @ Private Party\, Nicorps\, Normandie
DESCRIPTION:
URL:http://westnorfolkguitarteacher.co.uk/event/andy-graham-private-party-nicorps-normandie/
LOCATION:Hertforshire
END:VEVENT
BEGIN:VEVENT
DTSTART;TZID=Europe/London:20250525T150000
DTEND;TZID=Europe/London:20250525T170000
DTSTAMP:20260419T174359
CREATED:20250203T104743Z
LAST-MODIFIED:20250203T104743Z
UID:2822-1748185200-1748192400@westnorfolkguitarteacher.co.uk
SUMMARY:Andy Graham & Steve Roberts @ The Platform Tavern\, Southampton
DESCRIPTION:
URL:http://westnorfolkguitarteacher.co.uk/event/andy-graham-steve-roberts-the-platform-tavern-southampton-2/
LOCATION:Platform tavern\, Town Quay\, Southampton\, Hampshire\, SO14 2NY\, United Kingdom
END:VEVENT
END:VCALENDAR