BEGIN:VCALENDAR
VERSION:2.0
PRODID:-//Stone Pony Music - ECPv6.11.2.1//NONSGML v1.0//EN
CALSCALE:GREGORIAN
METHOD:PUBLISH
X-ORIGINAL-URL:http://westnorfolkguitarteacher.co.uk
X-WR-CALDESC:Events for Stone Pony Music
REFRESH-INTERVAL;VALUE=DURATION:PT1H
X-Robots-Tag:noindex
X-PUBLISHED-TTL:PT1H
BEGIN:VTIMEZONE
TZID:Europe/London
BEGIN:DAYLIGHT
TZOFFSETFROM:+0000
TZOFFSETTO:+0100
TZNAME:BST
DTSTART:20190331T010000
END:DAYLIGHT
BEGIN:STANDARD
TZOFFSETFROM:+0100
TZOFFSETTO:+0000
TZNAME:GMT
DTSTART:20191027T010000
END:STANDARD
BEGIN:DAYLIGHT
TZOFFSETFROM:+0000
TZOFFSETTO:+0100
TZNAME:BST
DTSTART:20200329T010000
END:DAYLIGHT
BEGIN:STANDARD
TZOFFSETFROM:+0100
TZOFFSETTO:+0000
TZNAME:GMT
DTSTART:20201025T010000
END:STANDARD
END:VTIMEZONE
BEGIN:VTIMEZONE
TZID:UTC
BEGIN:STANDARD
TZOFFSETFROM:+0000
TZOFFSETTO:+0000
TZNAME:UTC
DTSTART:20190101T000000
END:STANDARD
END:VTIMEZONE
BEGIN:VEVENT
DTSTART;TZID=Europe/London:20200201T200000
DTEND;TZID=Europe/London:20200201T220000
DTSTAMP:20260419T191646
CREATED:20191218T090501Z
LAST-MODIFIED:20191218T090501Z
UID:2174-1580587200-1580594400@westnorfolkguitarteacher.co.uk
SUMMARY:Stone Pony (band with acoustic guitar) at Red Hart
DESCRIPTION:
URL:http://westnorfolkguitarteacher.co.uk/event/stone-pony-band-with-acoustic-guitar-at-red-hart/
LOCATION:Red Hart\, The Street\, Bodham\, Norfolk\, NR25 6AD
END:VEVENT
BEGIN:VEVENT
DTSTART;TZID=UTC:20200123T220000
DTEND;TZID=UTC:20200124T010000
DTSTAMP:20260419T191646
CREATED:20190321T091845Z
LAST-MODIFIED:20190321T091845Z
UID:1977-1579816800-1579827600@westnorfolkguitarteacher.co.uk
SUMMARY:Stone Pony at Hotel Kreuz & Post\, Switzerland
DESCRIPTION:
URL:http://westnorfolkguitarteacher.co.uk/event/stone-pony-at-hotel-kreuz-post-switzerland-2/
LOCATION:Kreuz & Post Hotel\, Grindelwald 3818 \, Switzerland
END:VEVENT
BEGIN:VEVENT
DTSTART;TZID=UTC:20200122T220000
DTEND;TZID=UTC:20200123T010000
DTSTAMP:20260419T191646
CREATED:20190321T091801Z
LAST-MODIFIED:20190321T091801Z
UID:1974-1579730400-1579741200@westnorfolkguitarteacher.co.uk
SUMMARY:Stone Pony at Hotel Kreuz & Post\, Switzerland
DESCRIPTION:
URL:http://westnorfolkguitarteacher.co.uk/event/stone-pony-at-hotel-kreuz-post-switzerland/
LOCATION:Kreuz & Post Hotel\, Grindelwald 3818 \, Switzerland
END:VEVENT
BEGIN:VEVENT
DTSTART;TZID=Europe/London:20200110T203000
DTEND;TZID=Europe/London:20200110T233000
DTSTAMP:20260419T191646
CREATED:20191017T105314Z
LAST-MODIFIED:20191017T105314Z
UID:2112-1578688200-1578699000@westnorfolkguitarteacher.co.uk
SUMMARY:Stone Pony @ The Shadingfield Fox
DESCRIPTION:
URL:http://westnorfolkguitarteacher.co.uk/event/stone-pony-the-shadingfield-fox-2/
LOCATION:Shadingfield Fox\, London Road\, Shadingfield\, Beccles\, Norfolk\, NR34 8DD
END:VEVENT
BEGIN:VEVENT
DTSTART;TZID=Europe/London:20191231T210000
DTEND;TZID=Europe/London:20200101T003000
DTSTAMP:20260419T191646
CREATED:20190815T113900Z
LAST-MODIFIED:20190815T113900Z
UID:2080-1577826000-1577838600@westnorfolkguitarteacher.co.uk
SUMMARY:Stone Pony @ The King's Head
DESCRIPTION:
URL:http://westnorfolkguitarteacher.co.uk/event/stone-pony-the-kings-head-2/
LOCATION:King’s Head\, 19 High Street\, Holt\, Norfolk\, NR25 6BN
END:VEVENT
BEGIN:VEVENT
DTSTART;TZID=Europe/London:20191227T193000
DTEND;TZID=Europe/London:20191227T213000
DTSTAMP:20260419T191646
CREATED:20191108T173854Z
LAST-MODIFIED:20191108T173854Z
UID:2143-1577475000-1577482200@westnorfolkguitarteacher.co.uk
SUMMARY:Andy Graham @ The Rose & Crown
DESCRIPTION:
URL:http://westnorfolkguitarteacher.co.uk/event/andy-graham-the-rose-crown/
LOCATION:Rose & Crown\, Nethergate Street\, Harpley\, Norfolk\, PE31 6TW
END:VEVENT
BEGIN:VEVENT
DTSTART;TZID=Europe/London:20191222T160000
DTEND;TZID=Europe/London:20191222T190000
DTSTAMP:20260419T191646
CREATED:20191017T105202Z
LAST-MODIFIED:20191017T105202Z
UID:2110-1577030400-1577041200@westnorfolkguitarteacher.co.uk
SUMMARY:Stone Pony Jam @ The Cherry Tree
DESCRIPTION:
URL:http://westnorfolkguitarteacher.co.uk/event/stone-pony-jam-the-cherry-tree-2/
LOCATION:Cherry Tree\, 1 Theatre Street\, Dereham\, Norfolk\, NR19 2EW
END:VEVENT
BEGIN:VEVENT
DTSTART;TZID=Europe/London:20191221T203000
DTEND;TZID=Europe/London:20191221T233000
DTSTAMP:20260419T191646
CREATED:20191202T153404Z
LAST-MODIFIED:20191202T153404Z
UID:2165-1576960200-1576971000@westnorfolkguitarteacher.co.uk
SUMMARY:Stone Pony @ Ferry Lane Social Club
DESCRIPTION:
URL:http://westnorfolkguitarteacher.co.uk/event/stone-pony-ferry-lane-social-club/
LOCATION:Ferry Lane Social Club\, Ferry Lane\, King's Lynn\, Norfolk\, PE30 1HN
END:VEVENT
BEGIN:VEVENT
DTSTART;TZID=Europe/London:20191214T200000
DTEND;TZID=Europe/London:20191214T220000
DTSTAMP:20260419T191646
CREATED:20191017T105035Z
LAST-MODIFIED:20191017T105035Z
UID:2108-1576353600-1576360800@westnorfolkguitarteacher.co.uk
SUMMARY:Stone Pony @ The Carpenters Arms - Private party
DESCRIPTION:
URL:http://westnorfolkguitarteacher.co.uk/event/stone-pony-the-carpenters-arms-private-party/
LOCATION:Carpenters Arms\, 57 High Street\, Wighton\, Norfolk\, NR23 1PF
END:VEVENT
BEGIN:VEVENT
DTSTART;TZID=Europe/London:20191212T210000
DTEND;TZID=Europe/London:20191212T230000
DTSTAMP:20260419T191646
CREATED:20190914T193810Z
LAST-MODIFIED:20190914T193810Z
UID:2100-1576184400-1576191600@westnorfolkguitarteacher.co.uk
SUMMARY:Stone Pony Duo @ The Pear Tree Inn
DESCRIPTION:
URL:http://westnorfolkguitarteacher.co.uk/event/stone-pony-duo-the-pear-tree-inn-5/
LOCATION:Pear Tree Inn\, 79 Unthank Road\, Norwich\, Norfolk\, NR2 2PE
END:VEVENT
BEGIN:VEVENT
DTSTART;TZID=UTC:20191207T220000
DTEND;TZID=UTC:20191208T010000
DTSTAMP:20260419T191646
CREATED:20190321T133600Z
LAST-MODIFIED:20190321T133600Z
UID:1985-1575756000-1575766800@westnorfolkguitarteacher.co.uk
SUMMARY:Stone Pony @ O'Quigley's Bar
DESCRIPTION:
URL:http://westnorfolkguitarteacher.co.uk/event/stone-pony-oquigleys-bar-6/
LOCATION:O’Quigleys Bar\, 3 Le Strange Terrace\, Hunstanton\, Norfolk\, PE36 5AJ
END:VEVENT
BEGIN:VEVENT
DTSTART;TZID=Europe/London:20191206T210000
DTEND;TZID=Europe/London:20191206T230000
DTSTAMP:20260419T191646
CREATED:20191107T122559Z
LAST-MODIFIED:20191107T122559Z
UID:2129-1575666000-1575673200@westnorfolkguitarteacher.co.uk
SUMMARY:Stone Pony @ The Rumsey Wells
DESCRIPTION:
URL:http://westnorfolkguitarteacher.co.uk/event/stone-pony-the-rumsey-wells/
LOCATION:Rumsey Wells\, 4 St. Andrews Street\, Norwich\, Norfolk\, NR2 4AF
END:VEVENT
BEGIN:VEVENT
DTSTART;TZID=UTC:20191117T160000
DTEND;TZID=UTC:20191117T190000
DTSTAMP:20260419T191646
CREATED:20190501T192126Z
LAST-MODIFIED:20190521T095324Z
UID:2013-1574006400-1574017200@westnorfolkguitarteacher.co.uk
SUMMARY:Stone Pony @ The Swan
DESCRIPTION:
URL:http://westnorfolkguitarteacher.co.uk/event/stone-pony-the-swan-3/
LOCATION:Swan\, 13 High Street\, Moulton\, Spalding\, Lincolnshire\, PE12 6QB
END:VEVENT
BEGIN:VEVENT
DTSTART;TZID=Europe/London:20191114T210000
DTEND;TZID=Europe/London:20191114T230000
DTSTAMP:20260419T191646
CREATED:20190914T193731Z
LAST-MODIFIED:20190914T193731Z
UID:2097-1573765200-1573772400@westnorfolkguitarteacher.co.uk
SUMMARY:Stone Pony Duo @ The Pear Tree Inn
DESCRIPTION:
URL:http://westnorfolkguitarteacher.co.uk/event/stone-pony-duo-the-pear-tree-inn-4/
LOCATION:Pear Tree Inn\, 79 Unthank Road\, Norwich\, Norfolk\, NR2 2PE
END:VEVENT
BEGIN:VEVENT
DTSTART;TZID=Europe/London:20191112T203000
DTEND;TZID=Europe/London:20191112T230000
DTSTAMP:20260419T191646
CREATED:20191108T151739Z
LAST-MODIFIED:20191108T151739Z
UID:2135-1573590600-1573599600@westnorfolkguitarteacher.co.uk
SUMMARY:Andy Graham @ Red Hart (Norfolk Blues Society Acoustic Jam)
DESCRIPTION:
URL:http://westnorfolkguitarteacher.co.uk/event/andy-graham-red-hart-norfolk-blues-society-acoustic-jam/
LOCATION:Red Hart\, The Street\, Bodham\, Norfolk\, NR25 6AD
END:VEVENT
BEGIN:VEVENT
DTSTART;TZID=UTC:20191110T153000
DTEND;TZID=UTC:20191110T183000
DTSTAMP:20260419T191646
CREATED:20190530T151152Z
LAST-MODIFIED:20190530T151152Z
UID:2025-1573399800-1573410600@westnorfolkguitarteacher.co.uk
SUMMARY:Stone Pony Duo at The Vernon Arms
DESCRIPTION:
URL:http://westnorfolkguitarteacher.co.uk/event/stone-pony-duo-at-the-vernon-arms-2/
LOCATION:Vernon Arms\, Church Street\, Southrepps\, Norfolk\, NR11 8NP
END:VEVENT
BEGIN:VEVENT
DTSTART;TZID=Europe/London:20191109T100000
DTEND;TZID=Europe/London:20191110T010000
DTSTAMP:20260419T191646
CREATED:20190909T134841Z
LAST-MODIFIED:20190909T134841Z
UID:2088-1573293600-1573347600@westnorfolkguitarteacher.co.uk
SUMMARY:Stone Pony @ The Main Event
DESCRIPTION:
URL:http://westnorfolkguitarteacher.co.uk/event/stone-pony-the-main-event-2/
LOCATION:The Main Event\, 7 Quebec St\, Dereham\, NR19 2DJ
END:VEVENT
BEGIN:VEVENT
DTSTART;TZID=UTC:20191103T190000
DTEND;TZID=UTC:20191103T220000
DTSTAMP:20260419T191646
CREATED:20181205T124424Z
LAST-MODIFIED:20181205T124424Z
UID:1927-1572807600-1572818400@westnorfolkguitarteacher.co.uk
SUMMARY:Stone Pony @ Louis Marchesi Bar
DESCRIPTION:
URL:http://westnorfolkguitarteacher.co.uk/event/stone-pony-louis-marchesi-bar-4/
LOCATION:Louis Marchesi Bar\, 17 St. George\, Tombland\, Norwich\, Norfolk\, NR3 1AF
END:VEVENT
BEGIN:VEVENT
DTSTART;TZID=UTC:20191102T220000
DTEND;TZID=UTC:20191103T010000
DTSTAMP:20260419T191646
CREATED:20190321T133519Z
LAST-MODIFIED:20190321T133519Z
UID:1983-1572732000-1572742800@westnorfolkguitarteacher.co.uk
SUMMARY:Stone Pony @ O'Quigley's Bar
DESCRIPTION:
URL:http://westnorfolkguitarteacher.co.uk/event/stone-pony-oquigleys-bar-5/
LOCATION:O’Quigleys Bar\, 3 Le Strange Terrace\, Hunstanton\, Norfolk\, PE36 5AJ
END:VEVENT
BEGIN:VEVENT
DTSTART;TZID=UTC:20191025T220000
DTEND;TZID=UTC:20191026T010000
DTSTAMP:20260419T191646
CREATED:20190316T084802Z
LAST-MODIFIED:20190316T084802Z
UID:1954-1572040800-1572051600@westnorfolkguitarteacher.co.uk
SUMMARY:Stone Pony @ The Grapes
DESCRIPTION:
URL:http://westnorfolkguitarteacher.co.uk/event/stone-pony-the-grapes-2/
LOCATION:The Grapes\, 1 Brentgovel Street\, Bury St Edmunds\, IP33 1EA
END:VEVENT
BEGIN:VEVENT
DTSTART;TZID=Europe/London:20191018T203000
DTEND;TZID=Europe/London:20191018T223000
DTSTAMP:20260419T191646
CREATED:20190929T170020Z
LAST-MODIFIED:20190929T170020Z
UID:2105-1571430600-1571437800@westnorfolkguitarteacher.co.uk
SUMMARY:Stone Pony @ The White Horse
DESCRIPTION:
URL:http://westnorfolkguitarteacher.co.uk/event/stone-pony-the-white-horse-3/
LOCATION:White Horse\, Main Road\, Otterbourne\, Hampshire\, SO21 2EQ\, United Kingdom
END:VEVENT
BEGIN:VEVENT
DTSTART;TZID=Europe/London:20191010T210000
DTEND;TZID=Europe/London:20191010T230000
DTSTAMP:20260419T191646
CREATED:20190914T193659Z
LAST-MODIFIED:20190914T193659Z
UID:2093-1570741200-1570748400@westnorfolkguitarteacher.co.uk
SUMMARY:Stone Pony Duo @ The Pear Tree Inn
DESCRIPTION:
URL:http://westnorfolkguitarteacher.co.uk/event/stone-pony-duo-the-pear-tree-inn-3/
LOCATION:Pear Tree Inn\, 79 Unthank Road\, Norwich\, Norfolk\, NR2 2PE
END:VEVENT
BEGIN:VEVENT
DTSTART;TZID=UTC:20191006T163000
DTEND;TZID=UTC:20191006T190000
DTSTAMP:20260419T191646
CREATED:20181123T141129Z
LAST-MODIFIED:20190929T170202Z
UID:1922-1570379400-1570388400@westnorfolkguitarteacher.co.uk
SUMMARY:Stone Pony @ The Red Lion
DESCRIPTION:
URL:http://westnorfolkguitarteacher.co.uk/event/stone-pony-the-red-lion-4/
LOCATION:Red Lion\, 77 Church St\, Coltishall\, \, Norwich \, Norfolk\, NR12 7DW
END:VEVENT
BEGIN:VEVENT
DTSTART;TZID=UTC:20191005T203000
DTEND;TZID=UTC:20191005T223000
DTSTAMP:20260419T191646
CREATED:20190209T115532Z
LAST-MODIFIED:20190209T115532Z
UID:1945-1570307400-1570314600@westnorfolkguitarteacher.co.uk
SUMMARY:Stone Pony @ Snettisham Beach Park
DESCRIPTION:
URL:http://westnorfolkguitarteacher.co.uk/event/stone-pony-snettisham-beach-park-8/
LOCATION:Snettisham Beach Park\, 34 Beach Rd\, Snettisham\, Norfolk\, PE31 7RA\, United Kingdom
END:VEVENT
BEGIN:VEVENT
DTSTART;TZID=UTC:20191004T203000
DTEND;TZID=UTC:20191004T233000
DTSTAMP:20260419T191646
CREATED:20190530T151249Z
LAST-MODIFIED:20190530T151306Z
UID:2027-1570221000-1570231800@westnorfolkguitarteacher.co.uk
SUMMARY:Stone Pony @ The Shadingfield Fox
DESCRIPTION:
URL:http://westnorfolkguitarteacher.co.uk/event/stone-pony-the-shadingfield-fox/
LOCATION:Shadingfield Fox\, London Road\, Shadingfield\, Beccles\, Norfolk\, NR34 8DD
END:VEVENT
BEGIN:VEVENT
DTSTART;TZID=UTC:20190927T204500
DTEND;TZID=UTC:20190927T230000
DTSTAMP:20260419T191646
CREATED:20181121T090438Z
LAST-MODIFIED:20181121T090438Z
UID:1899-1569617100-1569625200@westnorfolkguitarteacher.co.uk
SUMMARY:Stone Pony Duo @ The Albatros
DESCRIPTION:
URL:http://westnorfolkguitarteacher.co.uk/event/stone-pony-duo-the-albatros-13/
LOCATION:The Albatros\, The Quay\, Wells Next-To-Sea\, NR23 1AT
END:VEVENT
BEGIN:VEVENT
DTSTART;TZID=UTC:20190922T160000
DTEND;TZID=UTC:20190922T190000
DTSTAMP:20260419T191646
CREATED:20190530T151011Z
LAST-MODIFIED:20190530T151011Z
UID:2022-1569168000-1569178800@westnorfolkguitarteacher.co.uk
SUMMARY:Stone Pony Duo at The Vernon Arms
DESCRIPTION:
URL:http://westnorfolkguitarteacher.co.uk/event/stone-pony-duo-at-the-vernon-arms/
LOCATION:Vernon Arms\, Church Street\, Southrepps\, Norfolk\, NR11 8NP
END:VEVENT
BEGIN:VEVENT
DTSTART;TZID=UTC:20190921T213000
DTEND;TZID=UTC:20190921T235500
DTSTAMP:20260419T191646
CREATED:20190316T084935Z
LAST-MODIFIED:20190316T084935Z
UID:1956-1569101400-1569110100@westnorfolkguitarteacher.co.uk
SUMMARY:Stone Pony @ The Rampant Horse
DESCRIPTION:
URL:http://westnorfolkguitarteacher.co.uk/event/stone-pony-the-rampant-horse-2/
LOCATION:Rampant Horse\, 3 Queens Road \, Fakenham \, Norfolk \, NR21 8BS
END:VEVENT
BEGIN:VEVENT
DTSTART;TZID=UTC:20190917T190000
DTEND;TZID=UTC:20190917T203000
DTSTAMP:20260419T191646
CREATED:20190316T125345Z
LAST-MODIFIED:20190512T121259Z
UID:1958-1568746800-1568752200@westnorfolkguitarteacher.co.uk
SUMMARY:Andy Graham at PHAB
DESCRIPTION:
URL:http://westnorfolkguitarteacher.co.uk/event/andy-graham-at-phab/
LOCATION:PHAB\, Vauxhall Hub\, Norwich\, Norfolk\, NR2 2SA
END:VEVENT
BEGIN:VEVENT
DTSTART;TZID=Europe/London:20190912T210000
DTEND;TZID=Europe/London:20190912T230000
DTSTAMP:20260419T191646
CREATED:20190904T121713Z
LAST-MODIFIED:20190904T121713Z
UID:2083-1568322000-1568329200@westnorfolkguitarteacher.co.uk
SUMMARY:Stone Pony Duo @ The Pear Tree Inn
DESCRIPTION:
URL:http://westnorfolkguitarteacher.co.uk/event/stone-pony-duo-the-pear-tree-inn-2/
LOCATION:Pear Tree Inn\, 79 Unthank Road\, Norwich\, Norfolk\, NR2 2PE
END:VEVENT
END:VCALENDAR