BEGIN:VCALENDAR
VERSION:2.0
PRODID:-//Stone Pony Music - ECPv6.11.2.1//NONSGML v1.0//EN
CALSCALE:GREGORIAN
METHOD:PUBLISH
X-WR-CALNAME:Stone Pony Music
X-ORIGINAL-URL:http://westnorfolkguitarteacher.co.uk
X-WR-CALDESC:Events for Stone Pony Music
REFRESH-INTERVAL;VALUE=DURATION:PT1H
X-Robots-Tag:noindex
X-PUBLISHED-TTL:PT1H
BEGIN:VTIMEZONE
TZID:UTC
BEGIN:STANDARD
TZOFFSETFROM:+0000
TZOFFSETTO:+0000
TZNAME:UTC
DTSTART:20180101T000000
END:STANDARD
END:VTIMEZONE
BEGIN:VEVENT
DTSTART;TZID=UTC:20181028T160000
DTEND;TZID=UTC:20181028T190000
DTSTAMP:20260419T204129
CREATED:20180209T130329Z
LAST-MODIFIED:20180209T130329Z
UID:1682-1540742400-1540753200@westnorfolkguitarteacher.co.uk
SUMMARY:Stone Pony Duo @ The Vernon Arms
DESCRIPTION:
URL:http://westnorfolkguitarteacher.co.uk/event/stone-pony-duo-the-vernon-arms-7/
LOCATION:Vernon Arms\, Church Street\, Southrepps\, Norfolk\, NR11 8NP
END:VEVENT
BEGIN:VEVENT
DTSTART;TZID=UTC:20181024T220000
DTEND;TZID=UTC:20181025T010000
DTSTAMP:20260419T204129
CREATED:20181031T120714Z
LAST-MODIFIED:20181031T120714Z
UID:1875-1540418400-1540429200@westnorfolkguitarteacher.co.uk
SUMMARY:Stone Pony @ Kreuz And Post Hotel
DESCRIPTION:
URL:http://westnorfolkguitarteacher.co.uk/event/stone-pony-kreuz-and-post-hotel-5/
LOCATION:Kreuz & Post Hotel\, Grindelwald 3818 \, Switzerland
END:VEVENT
BEGIN:VEVENT
DTSTART;TZID=UTC:20181020T204500
DTEND;TZID=UTC:20181020T233000
DTSTAMP:20260419T204129
CREATED:20170823T124033Z
LAST-MODIFIED:20170823T124243Z
UID:1373-1540068300-1540078200@westnorfolkguitarteacher.co.uk
SUMMARY:Stone Pony @ The Tyneside Club
DESCRIPTION:
URL:http://westnorfolkguitarteacher.co.uk/event/stone-pony-the-tyneside-club-3/
LOCATION:Tyneside Club\, 95 Station Road\, Sheringham\, Norfolk\, NR26 8RG
END:VEVENT
BEGIN:VEVENT
DTSTART;TZID=UTC:20181019T221500
DTEND;TZID=UTC:20181020T004500
DTSTAMP:20260419T204129
CREATED:20171129T084240Z
LAST-MODIFIED:20171129T084240Z
UID:1628-1539987300-1539996300@westnorfolkguitarteacher.co.uk
SUMMARY:Andy Graham's Open Mic @ The London Inn
DESCRIPTION:
URL:http://westnorfolkguitarteacher.co.uk/event/andy-grahams-open-mic-the-london-inn-11/
LOCATION:London Inn\, 4 St. Johns Street\, Stamford\, PE9 2DB
END:VEVENT
BEGIN:VEVENT
DTSTART;TZID=UTC:20181013T210000
DTEND;TZID=UTC:20181013T234500
DTSTAMP:20260419T204129
CREATED:20171014T073210Z
LAST-MODIFIED:20171014T073210Z
UID:1509-1539464400-1539474300@westnorfolkguitarteacher.co.uk
SUMMARY:Stone Pony @ The Walnut Tree Shades
DESCRIPTION:
URL:http://westnorfolkguitarteacher.co.uk/event/stone-pony-the-walnut-tree-shades/
LOCATION:The Walnut Tree Shades\, Old Post Office Court\, Norwich\, Norfolk\, NR2 1NG.\, United Kingdom
END:VEVENT
BEGIN:VEVENT
DTSTART;TZID=UTC:20181012T210000
DTEND;TZID=UTC:20181012T234500
DTSTAMP:20260419T204129
CREATED:20171231T191943Z
LAST-MODIFIED:20171231T191943Z
UID:1650-1539378000-1539387900@westnorfolkguitarteacher.co.uk
SUMMARY:Stone Pony @ The Unicorn
DESCRIPTION:
URL:http://westnorfolkguitarteacher.co.uk/event/stone-pony-the-unicorn/
LOCATION:The Unicorn\, 10 Hungate Street\, Aylsham\, Norfolk\, NR11 6AA\, United Kingdom
END:VEVENT
BEGIN:VEVENT
DTSTART;TZID=UTC:20181007T160000
DTEND;TZID=UTC:20181007T190000
DTSTAMP:20260419T204129
CREATED:20180717T181806Z
LAST-MODIFIED:20180917T152421Z
UID:1794-1538928000-1538938800@westnorfolkguitarteacher.co.uk
SUMMARY:Stone Pony Jam @ The Cherry Tree
DESCRIPTION:
URL:http://westnorfolkguitarteacher.co.uk/event/stone-pony-the-cherry-tree-2/
LOCATION:Cherry Tree\, 1 Theatre Street\, Dereham\, Norfolk\, NR19 2EW
END:VEVENT
BEGIN:VEVENT
DTSTART;TZID=UTC:20181006T221500
DTEND;TZID=UTC:20181007T004500
DTSTAMP:20260419T204129
CREATED:20171119T125942Z
LAST-MODIFIED:20171119T125942Z
UID:1567-1538864100-1538873100@westnorfolkguitarteacher.co.uk
SUMMARY:Stone Pony @ The London Inn
DESCRIPTION:
URL:http://westnorfolkguitarteacher.co.uk/event/stone-pony-the-london-inn-3/
LOCATION:London Inn\, 4 St. Johns Street\, Stamford\, PE9 2DB
END:VEVENT
BEGIN:VEVENT
DTSTART;TZID=UTC:20181005T210000
DTEND;TZID=UTC:20181005T233000
DTSTAMP:20260419T204129
CREATED:20180315T165703Z
LAST-MODIFIED:20180315T165703Z
UID:1733-1538773200-1538782200@westnorfolkguitarteacher.co.uk
SUMMARY:Stone Pony @ The Sole & Heel
DESCRIPTION:
URL:http://westnorfolkguitarteacher.co.uk/event/stone-pony-the-sole-heel/
LOCATION:Sole & Heel\, Salhouse Road\, Rackheath\, Norfolk\, NR13 6QH
END:VEVENT
BEGIN:VEVENT
DTSTART;TZID=UTC:20180930T163000
DTEND;TZID=UTC:20180930T190000
DTSTAMP:20260419T204129
CREATED:20171010T101357Z
LAST-MODIFIED:20171010T101357Z
UID:1475-1538325000-1538334000@westnorfolkguitarteacher.co.uk
SUMMARY:Stone Pony @ The Red Lion
DESCRIPTION:
URL:http://westnorfolkguitarteacher.co.uk/event/stone-pony-the-red-lion/
LOCATION:Red Lion\, 77 Church St\, Coltishall\, \, Norwich \, Norfolk\, NR12 7DW
END:VEVENT
BEGIN:VEVENT
DTSTART;TZID=UTC:20180929T204500
DTEND;TZID=UTC:20180929T230000
DTSTAMP:20260419T204129
CREATED:20171127T181621Z
LAST-MODIFIED:20171129T124058Z
UID:1598-1538253900-1538262000@westnorfolkguitarteacher.co.uk
SUMMARY:Stone Pony Duo @ The Albatros
DESCRIPTION:
URL:http://westnorfolkguitarteacher.co.uk/event/stone-pony-duo-the-albatros-8/
LOCATION:The Albatros\, The Quay\, Wells Next-To-Sea\, NR23 1AT
END:VEVENT
BEGIN:VEVENT
DTSTART;TZID=UTC:20180928T210000
DTEND;TZID=UTC:20180929T010000
DTSTAMP:20260419T204129
CREATED:20171002T161430Z
LAST-MODIFIED:20171002T161430Z
UID:1418-1538168400-1538182800@westnorfolkguitarteacher.co.uk
SUMMARY:Stone Pony Trio @ The Grapes
DESCRIPTION:
URL:http://westnorfolkguitarteacher.co.uk/event/stone-pony-trio-the-grapes-4/
LOCATION:The Grapes\, 1 Brentgovel Street\, Bury St Edmunds\, IP33 1EA
END:VEVENT
BEGIN:VEVENT
DTSTART;TZID=UTC:20180927T193000
DTEND;TZID=UTC:20180927T220000
DTSTAMP:20260419T204129
CREATED:20180804T144754Z
LAST-MODIFIED:20180804T144754Z
UID:1842-1538076600-1538085600@westnorfolkguitarteacher.co.uk
SUMMARY:Bob Pearce @ Andys Studio - e-mail me for details
DESCRIPTION:
URL:http://westnorfolkguitarteacher.co.uk/event/bob-pearce-andys-studio-e-mail-me-for-details/
LOCATION:Dorset
END:VEVENT
BEGIN:VEVENT
DTSTART;TZID=UTC:20180923T150000
DTEND;TZID=UTC:20180923T180000
DTSTAMP:20260419T204129
CREATED:20180404T065136Z
LAST-MODIFIED:20180404T065154Z
UID:1747-1537714800-1537725600@westnorfolkguitarteacher.co.uk
SUMMARY:Stone Pony @ The Fat Cat Brewery Tap
DESCRIPTION:
URL:http://westnorfolkguitarteacher.co.uk/event/stone-pony-the-fat-cat-brewery-tap-4/
LOCATION:Fat Cat Brewery Tap\, 98-100 Lawson Road\, Norwich\, Norfolk\, NR3 4LF \, United Kingdom
END:VEVENT
BEGIN:VEVENT
DTSTART;TZID=UTC:20180922T210000
DTEND;TZID=UTC:20180922T230000
DTSTAMP:20260419T204129
CREATED:20171125T130729Z
LAST-MODIFIED:20171125T130729Z
UID:1580-1537650000-1537657200@westnorfolkguitarteacher.co.uk
SUMMARY:Stone Pony @ The Lord Napier
DESCRIPTION:
URL:http://westnorfolkguitarteacher.co.uk/event/stone-pony-the-lord-napier-3/
LOCATION:Lord Napier\, 5 Guanock Terrace\, King's Lynn\, Norfolk\, PE30 5QT
END:VEVENT
BEGIN:VEVENT
DTSTART;TZID=UTC:20180921T221500
DTEND;TZID=UTC:20180922T004500
DTSTAMP:20260419T204129
CREATED:20171129T084201Z
LAST-MODIFIED:20171129T084201Z
UID:1626-1537568100-1537577100@westnorfolkguitarteacher.co.uk
SUMMARY:Andy Graham's Open Mic @ The London Inn
DESCRIPTION:
URL:http://westnorfolkguitarteacher.co.uk/event/andy-grahams-open-mic-the-london-inn-10/
LOCATION:London Inn\, 4 St. Johns Street\, Stamford\, PE9 2DB
END:VEVENT
BEGIN:VEVENT
DTSTART;TZID=UTC:20180826T203000
DTEND;TZID=UTC:20180826T223000
DTSTAMP:20260419T204129
CREATED:20180516T145943Z
LAST-MODIFIED:20180516T145943Z
UID:1766-1535315400-1535322600@westnorfolkguitarteacher.co.uk
SUMMARY:Stone Pony @ The Bluebell
DESCRIPTION:
URL:http://westnorfolkguitarteacher.co.uk/event/stone-pony-the-bluebell-3/
LOCATION:The Bluebell\, 22 Holt Road\, Langham\, Holt\, Norfolk\, NR25 7BX
END:VEVENT
BEGIN:VEVENT
DTSTART;TZID=UTC:20180826T150000
DTEND;TZID=UTC:20180826T150000
DTSTAMP:20260419T204129
CREATED:20180312T190826Z
LAST-MODIFIED:20180313T190959Z
UID:1718-1535295600-1535295600@westnorfolkguitarteacher.co.uk
SUMMARY:Stone Pony @ Gaywood Conservative Club
DESCRIPTION:
URL:http://westnorfolkguitarteacher.co.uk/event/stone-pony-duo-the-bushel/
LOCATION:Gaywood Consevative Club\, 7 Gayton Road\, Gaywood\, King's Lynn\, Norfolk\, PE30 4EA
END:VEVENT
BEGIN:VEVENT
DTSTART;TZID=UTC:20180824T200000
DTEND;TZID=UTC:20180824T220000
DTSTAMP:20260419T204129
CREATED:20180313T191152Z
LAST-MODIFIED:20180313T191152Z
UID:1725-1535140800-1535148000@westnorfolkguitarteacher.co.uk
SUMMARY:Stone Pony Duo @ The Bushel
DESCRIPTION:
URL:http://westnorfolkguitarteacher.co.uk/event/stone-pony-duo-the-bushel-2/
LOCATION:Bushel\, St. Johns Street\, Bury St. Edmunds\, IP33 1SN
END:VEVENT
BEGIN:VEVENT
DTSTART;TZID=UTC:20180821T210000
DTEND;TZID=UTC:20180821T230000
DTSTAMP:20260419T204129
CREATED:20171129T133408Z
LAST-MODIFIED:20171129T133408Z
UID:1636-1534885200-1534892400@westnorfolkguitarteacher.co.uk
SUMMARY:Stone Pony Trio @ The Fox & Hounds
DESCRIPTION:
URL:http://westnorfolkguitarteacher.co.uk/event/stone-pony-trio-the-fox-hounds-4/
LOCATION:Fox & Hounds\, 22 Station Road\, Heacham\, Norfolk\, PE31 7FA\, United Kingdom
END:VEVENT
BEGIN:VEVENT
DTSTART;TZID=UTC:20180819T190000
DTEND;TZID=UTC:20180819T220000
DTSTAMP:20260419T204129
CREATED:20180126T123706Z
LAST-MODIFIED:20180126T123706Z
UID:1663-1534705200-1534716000@westnorfolkguitarteacher.co.uk
SUMMARY:Stone Pony @ Louis Marchesi Bar
DESCRIPTION:
URL:http://westnorfolkguitarteacher.co.uk/event/stone-pony-louis-marchesi-bar-2/
LOCATION:Louis Marchesi Bar\, 17 St. George\, Tombland\, Norwich\, Norfolk\, NR3 1AF
END:VEVENT
BEGIN:VEVENT
DTSTART;TZID=UTC:20180818T213000
DTEND;TZID=UTC:20180818T235500
DTSTAMP:20260419T204129
CREATED:20171231T192941Z
LAST-MODIFIED:20171231T192941Z
UID:1652-1534627800-1534636500@westnorfolkguitarteacher.co.uk
SUMMARY:Stone Pony @ The Rampant Horse
DESCRIPTION:
URL:http://westnorfolkguitarteacher.co.uk/event/stone-pony-the-rampant-horse/
LOCATION:Rampant Horse\, 3 Queens Road \, Fakenham \, Norfolk \, NR21 8BS
END:VEVENT
BEGIN:VEVENT
DTSTART;TZID=UTC:20180817T221500
DTEND;TZID=UTC:20180818T004500
DTSTAMP:20260419T204129
CREATED:20171129T084123Z
LAST-MODIFIED:20171129T084123Z
UID:1624-1534544100-1534553100@westnorfolkguitarteacher.co.uk
SUMMARY:Andy Graham's Open Mic @ The London Inn
DESCRIPTION:
URL:http://westnorfolkguitarteacher.co.uk/event/andy-grahams-open-mic-the-london-inn-9/
LOCATION:London Inn\, 4 St. Johns Street\, Stamford\, PE9 2DB
END:VEVENT
BEGIN:VEVENT
DTSTART;TZID=UTC:20180814T190000
DTEND;TZID=UTC:20180814T203000
DTSTAMP:20260419T204129
CREATED:20180321T225002Z
LAST-MODIFIED:20180321T225002Z
UID:1739-1534273200-1534278600@westnorfolkguitarteacher.co.uk
SUMMARY:Andy Graham at PHAB Club\, Norwich
DESCRIPTION:
URL:http://westnorfolkguitarteacher.co.uk/event/andy-graham-at-phab-club-norwich/
LOCATION:Dorset
END:VEVENT
BEGIN:VEVENT
DTSTART;TZID=UTC:20180812T160000
DTEND;TZID=UTC:20180812T190000
DTSTAMP:20260419T204129
CREATED:20171004T161412Z
LAST-MODIFIED:20171004T161412Z
UID:1442-1534089600-1534100400@westnorfolkguitarteacher.co.uk
SUMMARY:Andy Graham @ The Live & Let Live
DESCRIPTION:
URL:http://westnorfolkguitarteacher.co.uk/event/andy-graham-the-live-let-live-6/
LOCATION:Live & Let Live\, 22 London Road\, Downham Market\, Norfolk\, PE38 9AW\, United Kingdom
END:VEVENT
BEGIN:VEVENT
DTSTART;TZID=UTC:20180811T153000
DTEND;TZID=UTC:20180811T230000
DTSTAMP:20260419T204129
CREATED:20180717T181121Z
LAST-MODIFIED:20180717T183143Z
UID:1790-1534001400-1534028400@westnorfolkguitarteacher.co.uk
SUMMARY:Stone Pony Jam & Egypt @ The Cherry Tree
DESCRIPTION:
URL:http://westnorfolkguitarteacher.co.uk/event/stone-pony-jam-the-cherry-tree/
LOCATION:Cherry Tree\, 1 Theatre Street\, Dereham\, Norfolk\, NR19 2EW
END:VEVENT
BEGIN:VEVENT
DTSTART;TZID=UTC:20180810T210000
DTEND;TZID=UTC:20180810T234500
DTSTAMP:20260419T204129
CREATED:20171019T112120Z
LAST-MODIFIED:20171020T123730Z
UID:1520-1533934800-1533944700@westnorfolkguitarteacher.co.uk
SUMMARY:Stone Pony @ The Maids Head
DESCRIPTION:
URL:http://westnorfolkguitarteacher.co.uk/event/stone-pony-the-maids-head-2/
LOCATION:Maids Head\, 85 Spixworth Road\, Old Catton\, Norwich \, Norfolk \, NR6 7NH
END:VEVENT
BEGIN:VEVENT
DTSTART;TZID=UTC:20180805T204500
DTEND;TZID=UTC:20180805T230000
DTSTAMP:20260419T204129
CREATED:20170922T162717Z
LAST-MODIFIED:20170922T162822Z
UID:1412-1533501900-1533510000@westnorfolkguitarteacher.co.uk
SUMMARY:Stone Pony Trio @ The Stevenage Blues Club
DESCRIPTION:
URL:http://westnorfolkguitarteacher.co.uk/event/stone-pony-trio-the-stevenage-blues-club/
LOCATION:Stevenage Blues Club (Red Lion)\, 80 HIGH STREET\, OLD TOWN\,\, STEVENAGE\, Hertfordshire\, SG1 3DW\, United Kingdom
END:VEVENT
BEGIN:VEVENT
DTSTART;TZID=UTC:20180805T130000
DTEND;TZID=UTC:20180805T150000
DTSTAMP:20260419T204129
CREATED:20171011T093830Z
LAST-MODIFIED:20171011T093830Z
UID:1483-1533474000-1533481200@westnorfolkguitarteacher.co.uk
SUMMARY:Stone Pony Trio @ The Deeping Stage
DESCRIPTION:
URL:http://westnorfolkguitarteacher.co.uk/event/stone-pony-trio-the-deeping-stage/
LOCATION:Deeping Stage\, 16 Market Place\, Market Deeping\, Peterborough\, PE6 8EA
END:VEVENT
BEGIN:VEVENT
DTSTART;TZID=UTC:20180804T221500
DTEND;TZID=UTC:20180805T004500
DTSTAMP:20260419T204129
CREATED:20171119T125828Z
LAST-MODIFIED:20171119T125828Z
UID:1565-1533420900-1533429900@westnorfolkguitarteacher.co.uk
SUMMARY:Stone Pony & The London Inn
DESCRIPTION:
URL:http://westnorfolkguitarteacher.co.uk/event/stone-pony-the-london-inn-2/
LOCATION:London Inn\, 4 St. Johns Street\, Stamford\, PE9 2DB
END:VEVENT
END:VCALENDAR