BEGIN:VCALENDAR
VERSION:2.0
PRODID:-//Stone Pony Music - ECPv6.11.2.1//NONSGML v1.0//EN
CALSCALE:GREGORIAN
METHOD:PUBLISH
X-ORIGINAL-URL:http://westnorfolkguitarteacher.co.uk
X-WR-CALDESC:Events for Stone Pony Music
REFRESH-INTERVAL;VALUE=DURATION:PT1H
X-Robots-Tag:noindex
X-PUBLISHED-TTL:PT1H
BEGIN:VTIMEZONE
TZID:UTC
BEGIN:STANDARD
TZOFFSETFROM:+0000
TZOFFSETTO:+0000
TZNAME:UTC
DTSTART:20160101T000000
END:STANDARD
END:VTIMEZONE
BEGIN:VEVENT
DTSTART;TZID=UTC:20170122T151500
DTEND;TZID=UTC:20170122T180000
DTSTAMP:20260421T125603
CREATED:20160927T102217Z
LAST-MODIFIED:20161206T114151Z
UID:934-1485098100-1485108000@westnorfolkguitarteacher.co.uk
SUMMARY:Andy Graham @ Stanford Arms
DESCRIPTION:
URL:http://westnorfolkguitarteacher.co.uk/event/andy-graham-stanford-arms-lowestoft/
LOCATION:Stanford Arms\, 94 Stanford Steet\, Lowestoft\, Suffolk\, NR32 2DD
END:VEVENT
BEGIN:VEVENT
DTSTART;TZID=UTC:20170119T220000
DTEND;TZID=UTC:20170120T010000
DTSTAMP:20260421T125603
CREATED:20161120T120146Z
LAST-MODIFIED:20161120T120146Z
UID:1074-1484863200-1484874000@westnorfolkguitarteacher.co.uk
SUMMARY:Stone Pony @ Kreuz And Post Hotel
DESCRIPTION:
URL:http://westnorfolkguitarteacher.co.uk/event/stone-pony-kreuz-and-post-hotel-2/
LOCATION:Kreuz And Post Hotel\, Grindelwald 3818 \, Switzerland
END:VEVENT
BEGIN:VEVENT
DTSTART;TZID=UTC:20170118T220000
DTEND;TZID=UTC:20170119T010000
DTSTAMP:20260421T125603
CREATED:20161120T120023Z
LAST-MODIFIED:20161120T120023Z
UID:1068-1484776800-1484787600@westnorfolkguitarteacher.co.uk
SUMMARY:Stone Pony @ Kreuz And Post Hotel
DESCRIPTION:
URL:http://westnorfolkguitarteacher.co.uk/event/stone-pony-kreuz-and-post-hotel/
LOCATION:Kreuz And Post Hotel\, Grindelwald 3818 \, Switzerland
END:VEVENT
BEGIN:VEVENT
DTSTART;TZID=UTC:20170107T210000
DTEND;TZID=UTC:20170107T235500
DTSTAMP:20260421T125603
CREATED:20161018T125910Z
LAST-MODIFIED:20161018T125910Z
UID:985-1483822800-1483833300@westnorfolkguitarteacher.co.uk
SUMMARY:Stone Pony @ The Lincolnshire Poacher
DESCRIPTION:
URL:http://westnorfolkguitarteacher.co.uk/event/stone-pony-the-lincolnshire-poacher/
LOCATION:Lincolnshire Poacher\, 11 Double St\, Spalding\, Lincolnshire\, PE11 2AA
END:VEVENT
BEGIN:VEVENT
DTSTART;TZID=UTC:20161231T203000
DTEND;TZID=UTC:20161231T203000
DTSTAMP:20260421T125603
CREATED:20160731T144603Z
LAST-MODIFIED:20161206T114125Z
UID:887-1483216200-1483216200@westnorfolkguitarteacher.co.uk
SUMMARY:Stone Pony Duo @ Lynn Arms
DESCRIPTION:
URL:http://westnorfolkguitarteacher.co.uk/event/stone-pony-duo-lynn-arms-syderstone-6/
LOCATION:Lynn Arms\, Syderstone\, Norfolk\, Pe31 8SD\, United Kingdom
END:VEVENT
BEGIN:VEVENT
DTSTART;TZID=UTC:20161228T203000
DTEND;TZID=UTC:20161228T230000
DTSTAMP:20260421T125603
CREATED:20161115T153813Z
LAST-MODIFIED:20161115T153813Z
UID:1044-1482957000-1482966000@westnorfolkguitarteacher.co.uk
SUMMARY:Stone Pony Duo @ The Vernon Arms
DESCRIPTION:
URL:http://westnorfolkguitarteacher.co.uk/event/stone-pony-duo-the-vernon-arms/
LOCATION:Vernon Arms\, Church Street\, Southrepps\, Norfolk\, NR11 8NP
END:VEVENT
BEGIN:VEVENT
DTSTART;TZID=UTC:20161223T210000
DTEND;TZID=UTC:20161223T230000
DTSTAMP:20260421T125603
CREATED:20161128T135653Z
LAST-MODIFIED:20161129T152440Z
UID:1092-1482526800-1482534000@westnorfolkguitarteacher.co.uk
SUMMARY:Stone Pony Duo @ The Victory
DESCRIPTION:
URL:http://westnorfolkguitarteacher.co.uk/event/stone-pony-duo-the-victory/
LOCATION:The Victory\, Main Road\, Clenchwarton\, King's Lynn\, Norfolk\, PE34 4AQ
END:VEVENT
BEGIN:VEVENT
DTSTART;TZID=UTC:20161216T210000
DTEND;TZID=UTC:20161216T230000
DTSTAMP:20260421T125603
CREATED:20161129T152731Z
LAST-MODIFIED:20161206T114055Z
UID:1098-1481922000-1481929200@westnorfolkguitarteacher.co.uk
SUMMARY:Stone Pony @ The Ox & Plough
DESCRIPTION:
URL:http://westnorfolkguitarteacher.co.uk/event/stone-pony-the-ox-plough/
LOCATION:Ox & Plough\, The Green\, \, Old Buckenham\, Norfolk\, NR17 1RN
END:VEVENT
BEGIN:VEVENT
DTSTART;TZID=UTC:20161210T210000
DTEND;TZID=UTC:20161210T210000
DTSTAMP:20260421T125603
CREATED:20160731T144602Z
LAST-MODIFIED:20161206T114034Z
UID:886-1481403600-1481403600@westnorfolkguitarteacher.co.uk
SUMMARY:Stone Pony Trio @ Micawbers Tavern
DESCRIPTION:
URL:http://westnorfolkguitarteacher.co.uk/event/stone-pony-trio-micawbers-bar-norwich-6/
LOCATION:Micawbers Tavern\, 92 Pottergate\, Norwich \, Norfolk\, NR2 1DZ\, United Kingdom
END:VEVENT
BEGIN:VEVENT
DTSTART;TZID=UTC:20161209T204500
DTEND;TZID=UTC:20161209T230000
DTSTAMP:20260421T125603
CREATED:20160922T113455Z
LAST-MODIFIED:20161206T114006Z
UID:920-1481316300-1481324400@westnorfolkguitarteacher.co.uk
SUMMARY:Stone Pony @ The Dabbling Duck
DESCRIPTION:
URL:http://westnorfolkguitarteacher.co.uk/event/stone-pony-the-dabbling-duck-great-massingham/
LOCATION:Dabbling Duck\, 11 Abbey Road\, Great Massingham\, Norfolk\, PE321HN
END:VEVENT
BEGIN:VEVENT
DTSTART;TZID=UTC:20161203T210000
DTEND;TZID=UTC:20161203T230000
DTSTAMP:20260421T125603
CREATED:20160921T095808Z
LAST-MODIFIED:20160921T095808Z
UID:915-1480798800-1480806000@westnorfolkguitarteacher.co.uk
SUMMARY:Stone Pony Duo @ The Crossways\, King's Lynn
DESCRIPTION:
URL:http://westnorfolkguitarteacher.co.uk/event/stone-pony-duo-the-crossways-kings-lynn/
LOCATION:Crossways\, Valingers Road\, King's Lynn\, Norfolk\, PE305HD
END:VEVENT
BEGIN:VEVENT
DTSTART;TZID=UTC:20161126T210000
DTEND;TZID=UTC:20161126T230000
DTSTAMP:20260421T125603
CREATED:20160928T081210Z
LAST-MODIFIED:20160928T081210Z
UID:954-1480194000-1480201200@westnorfolkguitarteacher.co.uk
SUMMARY:Stone Pony @ Wells Memorial Institute Club
DESCRIPTION:
URL:http://westnorfolkguitarteacher.co.uk/event/stone-pony-wells-memorial-institute-club/
LOCATION:Wells Memorial Institute Club\, Theatre Road\, Wells Next-The-Sea\, Norfolk\, NR23 1DS
END:VEVENT
BEGIN:VEVENT
DTSTART;TZID=UTC:20161125T090000
DTEND;TZID=UTC:20161125T230000
DTSTAMP:20260421T125603
CREATED:20161120T113844Z
LAST-MODIFIED:20161120T113844Z
UID:1066-1480064400-1480114800@westnorfolkguitarteacher.co.uk
SUMMARY:Stone Pony @ The Bell
DESCRIPTION:
URL:http://westnorfolkguitarteacher.co.uk/event/stone-pony-the-bell/
LOCATION:The Bell Inn\, 2 Ely Rd\, Denver\, Norfolk\, PE38 0DW\, United Kingdom
END:VEVENT
BEGIN:VEVENT
DTSTART;TZID=UTC:20161119T210000
DTEND;TZID=UTC:20161119T210000
DTSTAMP:20260421T125603
CREATED:20160731T144601Z
LAST-MODIFIED:20160731T144601Z
UID:883-1479589200-1479589200@westnorfolkguitarteacher.co.uk
SUMMARY:Stone Pony Trio @ The Unicorn\, Aylsham
DESCRIPTION:
URL:http://westnorfolkguitarteacher.co.uk/event/stone-pony-trio-the-unicorn-aylsham-12/
LOCATION:The Unicorn\, 10 Hungate Street\, Aylsham\, Norfolk\, NR11 6AA\, United Kingdom
END:VEVENT
BEGIN:VEVENT
DTSTART;TZID=UTC:20161118T203000
DTEND;TZID=UTC:20161118T203000
DTSTAMP:20260421T125603
CREATED:20160731T144601Z
LAST-MODIFIED:20160731T144601Z
UID:882-1479501000-1479501000@westnorfolkguitarteacher.co.uk
SUMMARY:Stone Pony @ Fat Cat Brewery Tap\, Norwich
DESCRIPTION:
URL:http://westnorfolkguitarteacher.co.uk/event/stone-pony-fat-cat-brewery-tap-norwich-10/
LOCATION:Fat Cat Brewery Tap\, 98-100 Lawson Road\, Norwich\, Norfolk\, NR3 4LF \, United Kingdom
END:VEVENT
BEGIN:VEVENT
DTSTART;TZID=UTC:20161117T193000
DTEND;TZID=UTC:20161117T223000
DTSTAMP:20260421T125603
CREATED:20161012T092122Z
LAST-MODIFIED:20161012T092122Z
UID:967-1479411000-1479421800@westnorfolkguitarteacher.co.uk
SUMMARY:Bob Pearce 70th Birthday Tour - Andy's Studio
DESCRIPTION:Contact us for more details about this gig
URL:http://westnorfolkguitarteacher.co.uk/event/bob-pearce-70th-birthday-tour-andys-studio/
LOCATION:Norfolk
END:VEVENT
BEGIN:VEVENT
DTSTART;TZID=UTC:20161112T203000
DTEND;TZID=UTC:20161112T203000
DTSTAMP:20260421T125603
CREATED:20160731T144601Z
LAST-MODIFIED:20160731T144601Z
UID:881-1478982600-1478982600@westnorfolkguitarteacher.co.uk
SUMMARY:Stone Pony Trio @ Lynn Arms\, Syderstone
DESCRIPTION:
URL:http://westnorfolkguitarteacher.co.uk/event/stone-pony-trio-lynn-arms-syderstone-6/
LOCATION:Lynn Arms\, Syderstone\, Norfolk\, Pe31 8SD\, United Kingdom
END:VEVENT
BEGIN:VEVENT
DTSTART;TZID=UTC:20161105T210000
DTEND;TZID=UTC:20161105T210000
DTSTAMP:20260421T125603
CREATED:20160731T144600Z
LAST-MODIFIED:20160731T144600Z
UID:880-1478379600-1478379600@westnorfolkguitarteacher.co.uk
SUMMARY:Stone Pony @ The Murderers\, Norwich
DESCRIPTION:
URL:http://westnorfolkguitarteacher.co.uk/event/stone-pony-the-murderers-norwich-13/
LOCATION:The Murderers\, 2 - 8 Timber Hill\, Norwich\, Norfolk\, NR1 3LB\, United Kingdom
END:VEVENT
BEGIN:VEVENT
DTSTART;TZID=UTC:20161030T150000
DTEND;TZID=UTC:20161030T180000
DTSTAMP:20260421T125603
CREATED:20160927T094247Z
LAST-MODIFIED:20160927T094247Z
UID:930-1477839600-1477850400@westnorfolkguitarteacher.co.uk
SUMMARY:Stone Pony Duo @ The Vernon Arms\, Southrepps
DESCRIPTION:
URL:http://westnorfolkguitarteacher.co.uk/event/stone-pony-duo-the-vernon-arms-southrepps/
LOCATION:Vernon Arms\, Church Street\, Southrepps\, Norfolk\, NR11 8NP
END:VEVENT
BEGIN:VEVENT
DTSTART;TZID=UTC:20161029T203000
DTEND;TZID=UTC:20161029T203000
DTSTAMP:20260421T125603
CREATED:20160731T144600Z
LAST-MODIFIED:20160731T144600Z
UID:879-1477773000-1477773000@westnorfolkguitarteacher.co.uk
SUMMARY:Stone Pony @ Live & Let Live\, Downham Market
DESCRIPTION:
URL:http://westnorfolkguitarteacher.co.uk/event/stone-pony-live-let-live-downham-market-6/
LOCATION:Live & Let Live\, 22 London Road\, Downham Market\, Norfolk\, PE38 9AW\, United Kingdom
END:VEVENT
BEGIN:VEVENT
DTSTART;TZID=UTC:20161028T210000
DTEND;TZID=UTC:20161028T210000
DTSTAMP:20260421T125603
CREATED:20160731T144600Z
LAST-MODIFIED:20160731T144600Z
UID:878-1477688400-1477688400@westnorfolkguitarteacher.co.uk
SUMMARY:Stone Pony @ The Heartsease\, Norwich
DESCRIPTION:
URL:http://westnorfolkguitarteacher.co.uk/event/stone-pony-the-heartsease-norwich-6/
LOCATION:The Heartsease\, 180 Plumstead Road\, Norwich\, Norfolk\, NR1 4JZ \, United Kingdom
END:VEVENT
BEGIN:VEVENT
DTSTART;TZID=UTC:20161023T204500
DTEND;TZID=UTC:20161023T204500
DTSTAMP:20260421T125603
CREATED:20160731T144559Z
LAST-MODIFIED:20160731T144559Z
UID:877-1477255500-1477255500@westnorfolkguitarteacher.co.uk
SUMMARY:Stone Pony @ Stevenage Blues Club (Red Lion)
DESCRIPTION:
URL:http://westnorfolkguitarteacher.co.uk/event/stone-pony-stevenage-blues-club-red-lion-6/
LOCATION:Stevenage Blues Club (Red Lion)\, 80 HIGH STREET\, OLD TOWN\,\, STEVENAGE\, Hertfordshire\, SG1 3DW\, United Kingdom
END:VEVENT
BEGIN:VEVENT
DTSTART;TZID=UTC:20161023T150000
DTEND;TZID=UTC:20161023T180000
DTSTAMP:20260421T125603
CREATED:20160731T144557Z
LAST-MODIFIED:20160903T151300Z
UID:872-1477234800-1477245600@westnorfolkguitarteacher.co.uk
SUMMARY:Stone Pony @ Snettisham Beach Park
DESCRIPTION:
URL:http://westnorfolkguitarteacher.co.uk/event/stone-pony-snettisham-beach-park-7/
LOCATION:Snettisham Beach Park\, 34 Beach Rd\, Snettisham\, Norfolk\, PE31 7RA\, United Kingdom
END:VEVENT
BEGIN:VEVENT
DTSTART;TZID=UTC:20161021T223000
DTEND;TZID=UTC:20161021T223000
DTSTAMP:20260421T125603
CREATED:20160731T144559Z
LAST-MODIFIED:20160731T144559Z
UID:875-1477089000-1477089000@westnorfolkguitarteacher.co.uk
SUMMARY:Stone Pony @ Charter's Bar\, Peterborough
DESCRIPTION:
URL:http://westnorfolkguitarteacher.co.uk/event/stone-pony-charters-bar-peterborough-5/
LOCATION:Charter’s Bar\, Town Bridge\, Peterborough\, Cambridgeshire\, PE1 1FP\, United Kingdom
END:VEVENT
BEGIN:VEVENT
DTSTART;TZID=UTC:20161015T213000
DTEND;TZID=UTC:20161015T213000
DTSTAMP:20260421T125603
CREATED:20160731T144558Z
LAST-MODIFIED:20160731T144558Z
UID:874-1476567000-1476567000@westnorfolkguitarteacher.co.uk
SUMMARY:Stone Pony Duo @ 5 Bells\, Tydd St. Mary
DESCRIPTION:
URL:http://westnorfolkguitarteacher.co.uk/event/stone-pony-duo-5-bells-tydd-st-mary-6/
LOCATION:5 Bells\, Common Way\, Tydd St Mary\,\, Cambridgeshire\, PE13 5QH\, United Kingdom
END:VEVENT
BEGIN:VEVENT
DTSTART;TZID=UTC:20161014T213000
DTEND;TZID=UTC:20161014T213000
DTSTAMP:20260421T125603
CREATED:20160731T144558Z
LAST-MODIFIED:20161003T125609Z
UID:873-1476480600-1476480600@westnorfolkguitarteacher.co.uk
SUMMARY:Stone Pony with The lazy Sundays support @ Bar Red\, King's Lynn
DESCRIPTION:
URL:http://westnorfolkguitarteacher.co.uk/event/stone-pony-bar-red-kings-lynn-6/
LOCATION:Bar Red\, 110 Norfolk Street\, King’s Lynn\, Norfolk\, PE30 1AQ\, United Kingdom
END:VEVENT
BEGIN:VEVENT
DTSTART;TZID=UTC:20161008T203000
DTEND;TZID=UTC:20161008T203000
DTSTAMP:20260421T125603
CREATED:20160731T144557Z
LAST-MODIFIED:20160731T144557Z
UID:871-1475958600-1475958600@westnorfolkguitarteacher.co.uk
SUMMARY:Stone Pony Duo @ The Albatros\, Wells Next-To-Sea
DESCRIPTION:
URL:http://westnorfolkguitarteacher.co.uk/event/stone-pony-duo-the-albatros-wells-next-to-sea-6/
LOCATION:The Albatros\, The Quay\, Wells Next-To-Sea\, NR23 1AT
END:VEVENT
BEGIN:VEVENT
DTSTART;TZID=UTC:20161007T210000
DTEND;TZID=UTC:20161007T210000
DTSTAMP:20260421T125603
CREATED:20160731T144556Z
LAST-MODIFIED:20160731T144556Z
UID:870-1475874000-1475874000@westnorfolkguitarteacher.co.uk
SUMMARY:Stone Pony @ Blakeney Harbour Rooms
DESCRIPTION:
URL:http://westnorfolkguitarteacher.co.uk/event/stone-pony-blakeney-harbour-rooms-6/
LOCATION:Blakeney Harbour Rooms\, 139 -141 High Street\, Blakeney\, Norfolk\, NR25 7NU\, United Kingdom
END:VEVENT
BEGIN:VEVENT
DTSTART;TZID=UTC:20161001T203000
DTEND;TZID=UTC:20161001T203000
DTSTAMP:20260421T125603
CREATED:20160731T144556Z
LAST-MODIFIED:20160731T144556Z
UID:869-1475353800-1475353800@westnorfolkguitarteacher.co.uk
SUMMARY:Andy Graham & Guest TBC @ Lynn Arms\, Syderstone
DESCRIPTION:
URL:http://westnorfolkguitarteacher.co.uk/event/andy-graham-guest-tbc-lynn-arms-syderstone-6/
LOCATION:Lynn Arms\, Syderstone\, Norfolk\, Pe31 8SD\, United Kingdom
END:VEVENT
BEGIN:VEVENT
DTSTART;TZID=UTC:20160928T210000
DTEND;TZID=UTC:20160928T210000
DTSTAMP:20260421T125603
CREATED:20160731T144555Z
LAST-MODIFIED:20160731T144555Z
UID:867-1475096400-1475096400@westnorfolkguitarteacher.co.uk
SUMMARY:Stone Pony @ Queen Victoria\, Snettisham
DESCRIPTION:
URL:http://westnorfolkguitarteacher.co.uk/event/stone-pony-queen-victoria-snettisham-6/
LOCATION:Queen Victoria\, 19 Lynn Road\, Snettisham\, Norfolk \, PE31 7LW\, United Kingdom
END:VEVENT
END:VCALENDAR